BEGIN:VCALENDAR
VERSION:2.0
PRODID:-//eventon.com NONSGML v1.0//EN
CALSCALE:GREGORIAN
METHOD:PUBLISH
BEGIN:VEVENT
UID:69e5efed13b6f
DTSTAMP:20260420T092045Z
DTSTART:20260109T190000Z
DTEND:20260109T235900Z
LOCATION:DraftKings Sports &amp; Social - Troy 2850 Coolidge Hwy\,  Troy\,  MI 48084
SUMMARY:DraftKings Sports & Social - Troy
DESCRIPTION:DraftKings Sports & Social - Troy\nhttps://quizzodetroit.com/we
 ekly-events/draftkings-sports-social-troy/
URL:https://quizzodetroit.com/weekly-events/draftkings-sports-social-troy/
END:VEVENT
END:VCALENDAR